View In:
ArcGIS JavaScript
ArcGIS Online Map Viewer
ArcGIS Earth
Service Description: Water Surface Elevation, R8, MIT, .02%, South Dakota,
Name: WSE_02/WSE_SD_0_2
Description: Water Surface Elevation, R8, MIT, .02%, South Dakota,
Single Fused Map Cache: false
Extent:
XMin: 2293049.228275282
YMin: -474568.2817207484
XMax: 2928508.850998038
YMax: 784912.1325239886
Spatial Reference: 103149
(6572)
LatestVCSWkid(0)
Initial Extent:
XMin: 2293049.228275282
YMin: -474568.2817207484
XMax: 2928508.850998038
YMax: 784912.1325239886
Spatial Reference: 103149
(6572)
LatestVCSWkid(0)
Full Extent:
XMin: 2293049.228275282
YMin: -474568.2817207484
XMax: 2928508.850998038
YMax: 784912.1325239886
Spatial Reference: 103149
(6572)
LatestVCSWkid(0)
Pixel Size X: 2.9999557305993974
Pixel Size Y: 2.999955730599398
Band Count: 1
Pixel Type: F32
RasterFunction Infos: {"rasterFunctionInfos": [{
"name": "None",
"description": "",
"help": ""
}]}
Mensuration Capabilities: Basic
Inspection Capabilities:
Has Histograms: true
Has Colormap: false
Has Multi Dimensions : false
Rendering Rule:
Min Scale: 0
Max Scale: 0
Copyright Text:
Service Data Type: esriImageServiceDataTypeGeneric
Min Values: 0
Max Values: 2103
Mean Values: 1414.3934063808217
Standard Deviation Values: 217.36467099761933
Object ID Field:
Fields:
None
Default Mosaic Method: Center
Allowed Mosaic Methods:
SortField:
SortValue: null
Mosaic Operator: First
Default Compression Quality: 75
Default Resampling Method: Bilinear
Max Record Count: null
Max Image Height: 4100
Max Image Width: 15000
Max Download Image Count: null
Max Mosaic Image Count: null
Allow Raster Function: true
Allow Copy: true
Allow Analysis: true
Allow Compute TiePoints: false
Supports Statistics: false
Supports Advanced Queries: false
Use StandardizedQueries: true
Raster Type Infos:
Name: Raster Dataset
Description: Supports all ArcGIS Raster Datasets
Help:
Has Raster Attribute Table: false
Edit Fields Info: null
Ownership Based AccessControl For Rasters: null
Child Resources:
Info
Histograms
Statistics
Key Properties
Legend
Raster Function Infos
Supported Operations:
Export Image
Identify
Measure
Compute Histograms
Compute Statistics Histograms
Get Samples
Compute Class Statistics
Query Boundary
Compute Pixel Location
Compute Angles
Validate
Project