View In:
ArcGIS JavaScript
ArcGIS Online Map Viewer
ArcGIS Earth
Service Description: W_SDBrookingsCo_02, Water Surface Elevation, 02%, SD, MIT, R8, BrookingsCo
Name: WSE_02/W_SDBrookingsCo_02
Description: W_SDBrookingsCo_02, Water Surface Elevation, 02%, SD, MIT, R8, BrookingsCo
Single Fused Map Cache: false
Extent:
XMin: 2716696.246242117
YMin: 145351.31028573823
XMax: 2898831.7068916173
YMax: 279317.5764246382
Spatial Reference: 3454
(4457)
LatestVCSWkid(0)
Initial Extent:
XMin: 2716696.246242117
YMin: 145351.31028573823
XMax: 2898831.7068916173
YMax: 279317.5764246382
Spatial Reference: 3454
(4457)
LatestVCSWkid(0)
Full Extent:
XMin: 2716696.246242117
YMin: 145351.31028573823
XMax: 2898831.7068916173
YMax: 279317.5764246382
Spatial Reference: 3454
(4457)
LatestVCSWkid(0)
Pixel Size X: 3.2808333000000025
Pixel Size Y: 3.2808332999999994
Band Count: 1
Pixel Type: F32
RasterFunction Infos: {"rasterFunctionInfos": [{
"name": "None",
"description": "",
"help": ""
}]}
Mensuration Capabilities: Basic
Inspection Capabilities:
Has Histograms: true
Has Colormap: false
Has Multi Dimensions : false
Rendering Rule:
Min Scale: 0
Max Scale: 0
Copyright Text:
Service Data Type: esriImageServiceDataTypeGeneric
Min Values: 1569.6999511719
Max Values: 1988.8000488281
Mean Values: 1673.46993242
Standard Deviation Values: 73.515920973104
Object ID Field:
Fields:
None
Default Mosaic Method: Center
Allowed Mosaic Methods:
SortField:
SortValue: null
Mosaic Operator: First
Default Compression Quality: 75
Default Resampling Method: Bilinear
Max Record Count: null
Max Image Height: 4100
Max Image Width: 15000
Max Download Image Count: null
Max Mosaic Image Count: null
Allow Raster Function: true
Allow Copy: true
Allow Analysis: true
Allow Compute TiePoints: false
Supports Statistics: false
Supports Advanced Queries: false
Use StandardizedQueries: true
Raster Type Infos:
Name: Raster Dataset
Description: Supports all ArcGIS Raster Datasets
Help:
Has Raster Attribute Table: false
Edit Fields Info: null
Ownership Based AccessControl For Rasters: null
Child Resources:
Info
Histograms
Statistics
Key Properties
Legend
Raster Function Infos
Supported Operations:
Export Image
Identify
Measure
Compute Histograms
Compute Statistics Histograms
Get Samples
Compute Class Statistics
Query Boundary
Compute Pixel Location
Compute Angles
Validate
Project