View In:
ArcGIS JavaScript
ArcGIS Online Map Viewer
ArcGIS Earth
Service Description: W_SDLincolnCo_02, Water Surface Elevation, 02%, SD, MIT, R8, LincolnCo
Name: WSE_02/W_SDLincolnCo_02
Description: W_SDLincolnCo_02, Water Surface Elevation, 02%, SD, MIT, R8, LincolnCo
Single Fused Map Cache: false
Extent:
XMin: 2872582.115742968
YMin: 292185.06753050245
XMax: 3008530.0051950677
YMax: 447650.6342843024
Spatial Reference: 102735
(3455)
LatestVCSWkid(0)
Initial Extent:
XMin: 2872582.115742968
YMin: 292185.06753050245
XMax: 3008530.0051950677
YMax: 447650.6342843024
Spatial Reference: 102735
(3455)
LatestVCSWkid(0)
Full Extent:
XMin: 2872582.115742968
YMin: 292185.06753050245
XMax: 3008530.0051950677
YMax: 447650.6342843024
Spatial Reference: 102735
(3455)
LatestVCSWkid(0)
Pixel Size X: 3.280833299999995
Pixel Size Y: 3.2808332999999994
Band Count: 1
Pixel Type: F32
RasterFunction Infos: {"rasterFunctionInfos": [{
"name": "None",
"description": "",
"help": ""
}]}
Mensuration Capabilities: Basic
Inspection Capabilities:
Has Histograms: true
Has Colormap: false
Has Multi Dimensions : false
Rendering Rule:
Min Scale: 0
Max Scale: 0
Copyright Text:
Service Data Type: esriImageServiceDataTypeGeneric
Min Values: 1199.3000488281
Max Values: 1560.9000244141
Mean Values: 1351.8969137126
Standard Deviation Values: 80.029418521058
Object ID Field:
Fields:
None
Default Mosaic Method: Center
Allowed Mosaic Methods:
SortField:
SortValue: null
Mosaic Operator: First
Default Compression Quality: 75
Default Resampling Method: Bilinear
Max Record Count: null
Max Image Height: 4100
Max Image Width: 15000
Max Download Image Count: null
Max Mosaic Image Count: null
Allow Raster Function: true
Allow Copy: true
Allow Analysis: true
Allow Compute TiePoints: false
Supports Statistics: false
Supports Advanced Queries: false
Use StandardizedQueries: true
Raster Type Infos:
Name: Raster Dataset
Description: Supports all ArcGIS Raster Datasets
Help:
Has Raster Attribute Table: false
Edit Fields Info: null
Ownership Based AccessControl For Rasters: null
Child Resources:
Info
Histograms
Statistics
Key Properties
Legend
Raster Function Infos
Supported Operations:
Export Image
Identify
Measure
Compute Histograms
Compute Statistics Histograms
Get Samples
Compute Class Statistics
Query Boundary
Compute Pixel Location
Compute Angles
Validate
Project