View In:
ArcGIS JavaScript
ArcGIS Online Map Viewer
ArcGIS Earth
Service Description: Water Surface Elevation, R8, MIT, .1%, North Dakota,d3
Name: WSE_ND/WSE_ND_01_d3
Description: Water Surface Elevation, R8, MIT, .1%, North Dakota,d3
Single Fused Map Cache: false
Extent:
XMin: 1008252.4586561492
YMin: 40852.4215233835
XMax: 1966833.2919777164
YMax: 1236081.273685677
Spatial Reference: 102721
(102721)
LatestVCSWkid(0)
Initial Extent:
XMin: 1008252.4586561492
YMin: 40852.4215233835
XMax: 1966833.2919777164
YMax: 1236081.273685677
Spatial Reference: 102721
(102721)
LatestVCSWkid(0)
Full Extent:
XMin: 1008252.4586561492
YMin: 40852.4215233835
XMax: 1966833.2919777164
YMax: 1236081.273685677
Spatial Reference: 102721
(102721)
LatestVCSWkid(0)
Pixel Size X: 3.2827548614632187
Pixel Size Y: 3.281990818122713
Band Count: 1
Pixel Type: F32
RasterFunction Infos: {"rasterFunctionInfos": [{
"name": "None",
"description": "",
"help": ""
}]}
Mensuration Capabilities: Basic
Inspection Capabilities:
Has Histograms: true
Has Colormap: false
Has Multi Dimensions : false
Rendering Rule:
Min Scale: 0
Max Scale: 0
Copyright Text:
Service Data Type: esriImageServiceDataTypeGeneric
Min Values: -3.4028226550889045E38
Max Values: 3202.349853515625
Mean Values: -1.6175142909427215E29
Standard Deviation Values: 7.41897181043689E33
Object ID Field:
Fields:
None
Default Mosaic Method: Center
Allowed Mosaic Methods:
SortField:
SortValue: null
Mosaic Operator: First
Default Compression Quality: 75
Default Resampling Method: Bilinear
Max Record Count: null
Max Image Height: 4100
Max Image Width: 15000
Max Download Image Count: null
Max Mosaic Image Count: null
Allow Raster Function: true
Allow Copy: true
Allow Analysis: true
Allow Compute TiePoints: false
Supports Statistics: false
Supports Advanced Queries: false
Use StandardizedQueries: true
Raster Type Infos:
Name: Raster Dataset
Description: Supports all ArcGIS Raster Datasets
Help:
Has Raster Attribute Table: false
Edit Fields Info: null
Ownership Based AccessControl For Rasters: null
Child Resources:
Info
Histograms
Statistics
Key Properties
Legend
Raster Function Infos
Supported Operations:
Export Image
Identify
Measure
Compute Histograms
Compute Statistics Histograms
Get Samples
Compute Class Statistics
Query Boundary
Compute Pixel Location
Compute Angles
Validate
Project